BEGIN:VCALENDAR
VERSION:2.0
PRODID:-//Human Rights Initiative of North Texas - ECPv6.15.20//NONSGML v1.0//EN
CALSCALE:GREGORIAN
METHOD:PUBLISH
X-ORIGINAL-URL:https://hrionline.org
X-WR-CALDESC:Events for Human Rights Initiative of North Texas
REFRESH-INTERVAL;VALUE=DURATION:PT1H
X-Robots-Tag:noindex
X-PUBLISHED-TTL:PT1H
BEGIN:VTIMEZONE
TZID:America/Chicago
BEGIN:DAYLIGHT
TZOFFSETFROM:-0600
TZOFFSETTO:-0500
TZNAME:CDT
DTSTART:20200308T080000
END:DAYLIGHT
BEGIN:STANDARD
TZOFFSETFROM:-0500
TZOFFSETTO:-0600
TZNAME:CST
DTSTART:20201101T070000
END:STANDARD
BEGIN:DAYLIGHT
TZOFFSETFROM:-0600
TZOFFSETTO:-0500
TZNAME:CDT
DTSTART:20210314T080000
END:DAYLIGHT
BEGIN:STANDARD
TZOFFSETFROM:-0500
TZOFFSETTO:-0600
TZNAME:CST
DTSTART:20211107T070000
END:STANDARD
BEGIN:DAYLIGHT
TZOFFSETFROM:-0600
TZOFFSETTO:-0500
TZNAME:CDT
DTSTART:20220313T080000
END:DAYLIGHT
BEGIN:STANDARD
TZOFFSETFROM:-0500
TZOFFSETTO:-0600
TZNAME:CST
DTSTART:20221106T070000
END:STANDARD
END:VTIMEZONE
BEGIN:VEVENT
DTSTART;VALUE=DATE:20211118
DTEND;VALUE=DATE:20211210
DTSTAMP:20260421T011856
CREATED:20211118T125910Z
LAST-MODIFIED:20211118T125910Z
UID:12216-1637193600-1639094399@hrionline.org
SUMMARY:HRI's Annual Storytelling Event RYHO21 Tickets On Sale Now!
DESCRIPTION:RYHO21 tickets on sale now!\n\n\n\n\nDecember 10\, 2021\n7-9:30 p.m.\n\n\n\nat the\n\n\n\nKimpton Pittman Hotel\n2551 Elm St\, Dallas\n\n\n\nJoin us to celebrate HRI’s 21st birthday at our annual storytelling event\, Stories from the HeART: Rock Your HeART Out which is scheduled on International Human Rights Day! Collect limited-edition art and merchandise\, listen to life-changing stories\, engage with luminous music from across the world to make an impact for immigrants and refugees in North Texas. We cannot wait to see you there!\n.\n.\nPROGRAM:\nMeet & Greet: 7 P.M.\nProgram begins at 8.\nComplementary valet parking available.\n\n\n\nFOR YOUR SAFETY: Please come vaccinated or prepared to wear a mask unless seated. We will space tables and use sanitation stations.\n\n\n\nTICKETS required. On sale through December 9\, 2021.\n\n\nHuman Rights Initiative of North Texas promotes human rights and dignity by providing free legal and social services to immigrant survivors of human rights abuses.\n.\n.\nFor questions or to become an HRI Sponsor\, please contact our Development Office: development@hrionline.org
URL:https://hrionline.org/event/hris-annual-storytelling-event-ryho21-tickets-on-sale-now/
END:VEVENT
END:VCALENDAR