BEGIN:VCALENDAR
VERSION:2.0
PRODID:-//Human Rights Initiative of North Texas - ECPv6.15.20//NONSGML v1.0//EN
CALSCALE:GREGORIAN
METHOD:PUBLISH
X-ORIGINAL-URL:https://hrionline.org
X-WR-CALDESC:Events for Human Rights Initiative of North Texas
REFRESH-INTERVAL;VALUE=DURATION:PT1H
X-Robots-Tag:noindex
X-PUBLISHED-TTL:PT1H
BEGIN:VTIMEZONE
TZID:America/Chicago
BEGIN:DAYLIGHT
TZOFFSETFROM:-0600
TZOFFSETTO:-0500
TZNAME:CDT
DTSTART:20200308T080000
END:DAYLIGHT
BEGIN:STANDARD
TZOFFSETFROM:-0500
TZOFFSETTO:-0600
TZNAME:CST
DTSTART:20201101T070000
END:STANDARD
BEGIN:DAYLIGHT
TZOFFSETFROM:-0600
TZOFFSETTO:-0500
TZNAME:CDT
DTSTART:20210314T080000
END:DAYLIGHT
BEGIN:STANDARD
TZOFFSETFROM:-0500
TZOFFSETTO:-0600
TZNAME:CST
DTSTART:20211107T070000
END:STANDARD
BEGIN:DAYLIGHT
TZOFFSETFROM:-0600
TZOFFSETTO:-0500
TZNAME:CDT
DTSTART:20220313T080000
END:DAYLIGHT
BEGIN:STANDARD
TZOFFSETFROM:-0500
TZOFFSETTO:-0600
TZNAME:CST
DTSTART:20221106T070000
END:STANDARD
END:VTIMEZONE
BEGIN:VEVENT
DTSTART;TZID=America/Chicago:20211215T120000
DTEND;TZID=America/Chicago:20211215T123000
DTSTAMP:20260421T000326
CREATED:20210304T122953Z
LAST-MODIFIED:20210304T122953Z
UID:11602-1639569600-1639571400@hrionline.org
SUMMARY:Office Hours for Current Pro Bono Attorney (Virtual)
DESCRIPTION:Wondering how to find a status update for your case? Need a hand crafting your client’s affidavit? Just want to run a quick question by an HRI staff? \nHRI’s monthly Zoom office hours can help! Each month\, our staff will host a call focused on one of our program areas. These office hours are the place to get your questions about your current case answered. \nProgram Focus: Children’s Program. If you have an open HRI SIJ case\, join us and chat with Pilar Ferguson\, our Children’s Program Director. \nEmail volunteer@hrionline.org to sign up!
URL:https://hrionline.org/event/office-hours-for-current-pro-bono-attorney-virtual-6/
END:VEVENT
END:VCALENDAR